BEGIN:VCALENDAR
VERSION:2.0
PRODID:-//Tukios.com/
BEGIN:VEVENT
UID:2a6bcb8b-03e8-4949-a1ea-0249fd4f6cc4@www.everhart-bovefuneralhomes.com
DTSTAMP:20260422T002625Z
DTSTART:20260424T190000Z
DTEND:20260424T220000Z
SUMMARY:Visitation
DESCRIPTION:
URL:https://www.everhart-bovefuneralhomes.com/obituaries/brianna-coen
LOCATION: 685 Canton Rd  Wintersville OH 43953
GEO:40.3871717;-80.7185014
END:VEVENT
END:VCALENDAR