BEGIN:VCALENDAR
VERSION:2.0
PRODID:-//Tukios.com/
BEGIN:VEVENT
UID:c5338bd6-4852-4b7a-b3b2-4c310f907564@www.everhart-bovefuneralhomes.com
DTSTAMP:20260422T002330Z
DTSTART:20260424T220000Z
DTEND:20260424T230000Z
SUMMARY:Funeral Service
DESCRIPTION:
URL:https://www.everhart-bovefuneralhomes.com/obituaries/brianna-coen
LOCATION: 685 Canton Rd  Wintersville OH 43953
GEO:40.3871717;-80.7185014
END:VEVENT
END:VCALENDAR